BEGIN:VCALENDAR
VERSION:2.0
PRODID:-//bewegende.ch - ECPv4.9.14//NONSGML v1.0//EN
CALSCALE:GREGORIAN
METHOD:PUBLISH
X-WR-CALNAME:bewegende.ch
X-ORIGINAL-URL:https://www.bewegende.ch
X-WR-CALDESC:Veranstaltungen im bewegende.ch
BEGIN:VTIMEZONE
TZID:UTC
BEGIN:STANDARD
TZOFFSETFROM:+0000
TZOFFSETTO:+0000
TZNAME:UTC
DTSTART:20260101T000000
END:STANDARD
END:VTIMEZONE
BEGIN:VEVENT
DTSTART;TZID=UTC:20260505T183000
DTEND;TZID=UTC:20260505T203000
DTSTAMP:20260424T140600
CREATED:20260120T155857Z
LAST-MODIFIED:20260120T162525Z
UID:2339-1778005800-1778013000@www.bewegende.ch
SUMMARY:Kursreihe: Mit geschmeidigen Füssen und stabilen Beinen unterwegs | Spiraldynamik® | 4x in Stäfa | 3
DESCRIPTION:Unsere Füsse sind gebaut für lebenslängliche Belastung. Sie rücken erst in unser Bewusstsein\, wenn sie anfangen zu schmerzen. Kennen Sie auch Vorfussschmerzen oder schiefe Grosszehen\, krallende Kleinzehen\, entzündete Achillessehnen\, Bänderzerrungen\, Fussfehlstellungen? \nViele Fussbeschwerden lassen sich günstig durch die Veränderung der Fussaktivität und der Fuss-Bein-Belastung beeinflussen. Die Spiraldynamik® hilft Ihnen dabei und bringt Ihnen Ihre Füsse näher. \nKursziele\n• Durch die feinen Spiraldynamik® Grundübungen lernen Sie die Bewegungsmöglichkeiten Ihrer Füsse und Beine besser kennen und erweitern sie. \n• Sie lernen Ihre Füsse zu mobilisieren\, zu kräftigen und sie richtig zu belasten. Dies wenden Sie im Stehen und Gehen und in ihren Arbeits- und Freizeitaktivitäten an. \n• Sie erfahren\, wie gezielte Bewegungsveränderungen in Ihren Füssen und Beinen sich günstig auf Ihre Ganzkörper-Koordination auswirken können. \n• Sie vertiefen Ihr anatomisches und funktionelles Verständnis für die gesunde Fuss- und Bein-Koordination. \n• Sie bekommen einen Einblick in die Entstehung von Fussbeschwerden und Beinachsenfehlern\, wie auch zu verschiedenen Therapiemassnahmen (Bewegungstherapie\, Hilfsmittel\, Operationen\, Schuhe und Einlagen und weitere). \n• Im Plenum können Sie Ihre Fragen und Ideen einbringen. \nSie bewegen sich in verschiedenen Lagen: Auf dem Boden\, auf dem Stuhl\, im Stehen und im Raum. Unterschiedliche Bewegungsmaterialien und manchmal auch Musik bereichern Ihre Bewegungserfahrung. \nAn 4 Abenden\, während 4 Monaten widmen Sie sich Ihren Füssen und Beinen und verbessern dadurch auch Ihre Ganzkörperkoordination. So kann das Gelernte und Erfahrene einerseits mit der Unterstützung der Kursleiterin verfeinert werden und andererseits in Ihnen nachhaltig weiterwirken. \nEs sind keine körperlichen Voraussetzungen oder Kenntnisse der Spiraldynamik® nötig\, denn Sie bewegen sich Ihren individuellen Möglichkeiten entsprechend. \nFür Personen mit Spiraldynamik®-Erfahrung kann dieser Kurs helfen\, ihr Wissen zu vertiefen und es aufzufrischen. \nDaten 2026 von Kursreihe (Frühling-Sommer)\n4 Dienstag Abende\, 18.30–20.30 Uhr \n10. März | 14. April | 5.Mai | 9. Juni \nIm Herbst-Winter 2026 geht es mit der nächsten Kursreihe „Von Kopf bis Fuss beweglich“ weiter > siehe Kurs-Agenda oder Volkshochschule Stäfa \nOrt\nVolkshochschule Stäfa\, Alte Krone Stäfa\, Foyer im 2. Stock\, Goethestrasse 14\, Stäfa (Plan unten) \nTeilnehmende\n8–12 Personen \nPreise + Anmeldung\nAuf der Website der Volkshochschule Stäfa > Kursangebot + Anmeldung  \n\nDie Themen und Daten ALLER Spiraldynamik®-Kurse an der Volkshochschule Stäfa finden Sie > hier.\n\nZum gesamten Kursangebot von Bewegende geht es > hier.\n\n
URL:https://www.bewegende.ch/kurs/kursreihe-mit-geschmeidigen-fuessen-und-stabilen-beinen-unterwegs-4x-3/
LOCATION:Volkshochschule Stäfa\, Alte Krone\, Goethestrasse 14\, Stäfa\, Zürich\, 8712\, Schweiz
CATEGORIES:Kursreihe VHS-Stäfa
ATTACH;FMTTYPE=image/jpeg:https://www.bewegende.ch/wp-content/uploads/2019/05/shutterstock_66250687_gekauft_130927_Fuesse.jpg
END:VEVENT
END:VCALENDAR